BEGIN:VCALENDAR
VERSION:2.0
PRODID:-//Sol-Y-Sombra - ECPv5.9.0//NONSGML v1.0//EN
CALSCALE:GREGORIAN
METHOD:PUBLISH
X-WR-CALNAME:Sol-Y-Sombra
X-ORIGINAL-URL:https://www.sol-y-sombra.fr
X-WR-CALDESC:évènements pour Sol-Y-Sombra
BEGIN:VTIMEZONE
TZID:Europe/Paris
BEGIN:DAYLIGHT
TZOFFSETFROM:+0100
TZOFFSETTO:+0200
TZNAME:CEST
DTSTART:20250330T010000
END:DAYLIGHT
BEGIN:STANDARD
TZOFFSETFROM:+0200
TZOFFSETTO:+0100
TZNAME:CET
DTSTART:20251026T010000
END:STANDARD
END:VTIMEZONE
BEGIN:VEVENT
DTSTART;TZID=Europe/Paris:20250607T080000
DTEND;TZID=Europe/Paris:20250609T170000
DTSTAMP:20260424T090140
CREATED:20250214T134906Z
LAST-MODIFIED:20250214T134906Z
UID:72142-1749283200-1749488400@www.sol-y-sombra.fr
SUMMARY:VIC - FEZENSAC - FERIA DU TORO 2025
DESCRIPTION:SAMEDI 7 JUIN A 11H – 6 NOVILLOS DE PRIETO DE LA CAL POUR JESUS DE LA CAZALDA\, PEPE LUIS CIRUGEDA ET CRISTIANO TORRES \nA 17H30 – TOROS DE SALTILLO POUR SANCHEZ VARA\, GOMEZ DEL PILAR ET LUIS GERPE \nDIMANCHE 8 A 11H – CORRIDA CONCOURS – TOROS DE MIURA\, PRIETO DE LA CAL\, VILLAMARTA\, VEIGA TEIXERA\, PALLARES ET PAGES MAILHAN POUR ESAU FERNANDEZ\, ROMAN ET JOSE GARRIDO \nA 17H30 – TOROS DE DOLORES AGUIRRE POUR FERNANDO ROBLEÑO\, DAMIAN CASTAÑO ET JUAN DE CASTILLA \nLUNDI 9 A 11H – NOVILLADA SANS PICADORS – BECERROS DE CAMINO DE SANTIAGO\, L’ASTARAC\, LE LARTET\, LA ESPERA ET ALMA SERERA POUR DIEGO MATEOS\, FERNANDO VANEGAS ET LE VAINQUEUR DU BOLSIN DE BOUGUE \nA 17H30 – TOROS DE ARAUZ DE ROBLES ET FLOR DE JARA POUR MORENITO DE ARANDA SEUL CONTRE SIX
URL:https://www.sol-y-sombra.fr/event/vic-fezensac-feria-du-toro-2025/
LOCATION:Vic-Fezensac\, Vic-Fezensac\, 32190
ATTACH;FMTTYPE=image/jpeg:https://www.sol-y-sombra.fr/wp-content/uploads/2025/02/vic.jpg
ORGANIZER;CN="Club%20Taurin%20Vicois":MAILTO:ctv@clubtaurinvicois.com
END:VEVENT
END:VCALENDAR