BEGIN:VCALENDAR
VERSION:2.0
PRODID:-//Sol-Y-Sombra - ECPv5.9.0//NONSGML v1.0//EN
CALSCALE:GREGORIAN
METHOD:PUBLISH
X-WR-CALNAME:Sol-Y-Sombra
X-ORIGINAL-URL:https://www.sol-y-sombra.fr
X-WR-CALDESC:évènements pour Sol-Y-Sombra
BEGIN:VTIMEZONE
TZID:Europe/Paris
BEGIN:DAYLIGHT
TZOFFSETFROM:+0100
TZOFFSETTO:+0200
TZNAME:CEST
DTSTART:20250330T010000
END:DAYLIGHT
BEGIN:STANDARD
TZOFFSETFROM:+0200
TZOFFSETTO:+0100
TZNAME:CET
DTSTART:20251026T010000
END:STANDARD
END:VTIMEZONE
BEGIN:VEVENT
DTSTART;TZID=Europe/Paris:20250809T180000
DTEND;TZID=Europe/Paris:20250809T220000
DTSTAMP:20260424T072521
CREATED:20250407T170003Z
LAST-MODIFIED:20250407T170003Z
UID:72493-1754762400-1754776800@www.sol-y-sombra.fr
SUMMARY:SOUSTONS - NOVILLADA PIQUEE
DESCRIPTION:A 18H\, NOVILLOS DE FERNAY Y HIJASD ET FANO POUR JUAN MOLAS\, CLEMENT HARGOUS ET VICTOR
URL:https://www.sol-y-sombra.fr/event/soustons-novillada-piquee/
ATTACH;FMTTYPE=image/jpeg:https://www.sol-y-sombra.fr/wp-content/uploads/2025/04/488905386_122173803380306976_5255592845131389542_n.jpg
END:VEVENT
END:VCALENDAR