BEGIN:VCALENDAR
VERSION:2.0
PRODID:-//Sol-Y-Sombra - ECPv5.9.0//NONSGML v1.0//EN
CALSCALE:GREGORIAN
METHOD:PUBLISH
X-WR-CALNAME:Sol-Y-Sombra
X-ORIGINAL-URL:https://www.sol-y-sombra.fr
X-WR-CALDESC:évènements pour Sol-Y-Sombra
BEGIN:VTIMEZONE
TZID:Europe/Paris
BEGIN:DAYLIGHT
TZOFFSETFROM:+0100
TZOFFSETTO:+0200
TZNAME:CEST
DTSTART:20260329T010000
END:DAYLIGHT
BEGIN:STANDARD
TZOFFSETFROM:+0200
TZOFFSETTO:+0100
TZNAME:CET
DTSTART:20261025T010000
END:STANDARD
END:VTIMEZONE
BEGIN:VEVENT
DTSTART;TZID=Europe/Paris:20260808T170000
DTEND;TZID=Europe/Paris:20260808T220000
DTSTAMP:20260424T055403
CREATED:20260107T180956Z
LAST-MODIFIED:20260107T180956Z
UID:75179-1786208400-1786226400@www.sol-y-sombra.fr
SUMMARY:SOUSTONS - NOVILLADA PIQUÉE
DESCRIPTION:Novillos de Fernay y hijas pour Victor\, Miriam Cabas et Clovis
URL:https://www.sol-y-sombra.fr/event/soustons-novillada-piquee-2/
ATTACH;FMTTYPE=image/jpeg:https://www.sol-y-sombra.fr/wp-content/uploads/2026/01/611173006_122211299402306976_3629524161687080830_n.jpg
END:VEVENT
END:VCALENDAR