BEGIN:VCALENDAR
VERSION:2.0
PRODID:-//Sol-Y-Sombra - ECPv5.9.0//NONSGML v1.0//EN
CALSCALE:GREGORIAN
METHOD:PUBLISH
X-WR-CALNAME:Sol-Y-Sombra
X-ORIGINAL-URL:https://www.sol-y-sombra.fr
X-WR-CALDESC:évènements pour Sol-Y-Sombra
BEGIN:VTIMEZONE
TZID:Europe/Paris
BEGIN:DAYLIGHT
TZOFFSETFROM:+0100
TZOFFSETTO:+0200
TZNAME:CEST
DTSTART:20260329T010000
END:DAYLIGHT
BEGIN:STANDARD
TZOFFSETFROM:+0200
TZOFFSETTO:+0100
TZNAME:CET
DTSTART:20261025T010000
END:STANDARD
END:VTIMEZONE
BEGIN:VEVENT
DTSTART;TZID=Europe/Paris:20260628T180000
DTEND;TZID=Europe/Paris:20260628T220000
DTSTAMP:20260424T055720
CREATED:20251229T174446Z
LAST-MODIFIED:20251229T174446Z
UID:75170-1782669600-1782684000@www.sol-y-sombra.fr
SUMMARY:SAINT-SEVER - CORRIDA DES FÊTES DE LA SAINT-JEAN
DESCRIPTION:A 18H\, TOROS DE EL PILAR POUR SEBASTIEN CASTELLA\, JUAN ORTEGA ET TRISTAN BARROSO
URL:https://www.sol-y-sombra.fr/event/saint-sever-corrida-des-fetes-de-la-saint-jean/
ATTACH;FMTTYPE=image/jpeg:https://www.sol-y-sombra.fr/wp-content/uploads/2025/06/Corrida-Saint-Sever_-28-scaled.jpg
END:VEVENT
END:VCALENDAR