BEGIN:VCALENDAR
VERSION:2.0
PRODID:-//Sol-Y-Sombra - ECPv5.9.0//NONSGML v1.0//EN
CALSCALE:GREGORIAN
METHOD:PUBLISH
X-WR-CALNAME:Sol-Y-Sombra
X-ORIGINAL-URL:https://www.sol-y-sombra.fr
X-WR-CALDESC:évènements pour Sol-Y-Sombra
BEGIN:VTIMEZONE
TZID:Europe/Paris
BEGIN:DAYLIGHT
TZOFFSETFROM:+0100
TZOFFSETTO:+0200
TZNAME:CEST
DTSTART:20250330T010000
END:DAYLIGHT
BEGIN:STANDARD
TZOFFSETFROM:+0200
TZOFFSETTO:+0100
TZNAME:CET
DTSTART:20251026T010000
END:STANDARD
END:VTIMEZONE
BEGIN:VEVENT
DTSTART;VALUE=DATE:20250405
DTEND;VALUE=DATE:20250406
DTSTAMP:20260424T090301
CREATED:20250106T112731Z
LAST-MODIFIED:20250106T112731Z
UID:71955-1743811200-1743897599@www.sol-y-sombra.fr
SUMMARY:SAINT-MARTIN-DE-CRAU - 30eme FERIA DE LA CRAU
DESCRIPTION:11 H\, BECERROS DE FRANCOIS ANDRE POUR ISAAC GALVIN ET CLOVIS \n16H30\, TOROS DE JOSE ESCOLAR GIL POUR ALBERTO LAMELAS\, MAXIME SOLERA ET CRISTOBAL REYES
URL:https://www.sol-y-sombra.fr/event/saint-martin-de-crau-30eme-feria-de-la-crau/
LOCATION:Saint-Martin-de-Crau\, Arènes Louis Thiers\, Saint-Martin-de-Crau\, 13310\, France
ATTACH;FMTTYPE=image/jpeg:https://www.sol-y-sombra.fr/wp-content/uploads/2025/01/IMG_6380.jpeg
END:VEVENT
END:VCALENDAR