BEGIN:VCALENDAR
VERSION:2.0
PRODID:-//Sol-Y-Sombra - ECPv5.9.0//NONSGML v1.0//EN
CALSCALE:GREGORIAN
METHOD:PUBLISH
X-WR-CALNAME:Sol-Y-Sombra
X-ORIGINAL-URL:https://www.sol-y-sombra.fr
X-WR-CALDESC:évènements pour Sol-Y-Sombra
BEGIN:VTIMEZONE
TZID:Europe/Paris
BEGIN:DAYLIGHT
TZOFFSETFROM:+0100
TZOFFSETTO:+0200
TZNAME:CEST
DTSTART:20250330T010000
END:DAYLIGHT
BEGIN:STANDARD
TZOFFSETFROM:+0200
TZOFFSETTO:+0100
TZNAME:CET
DTSTART:20251026T010000
END:STANDARD
END:VTIMEZONE
BEGIN:VEVENT
DTSTART;VALUE=DATE:20250309
DTEND;VALUE=DATE:20250310
DTSTAMP:20260424T090955
CREATED:20250222T113429Z
LAST-MODIFIED:20250222T113429Z
UID:72173-1741478400-1741564799@www.sol-y-sombra.fr
SUMMARY:SAINT LAURENT D'AIGOUZE - Journée Taurine des Amis de Pablo Romero
DESCRIPTION:11 h Tienta de deux vaches du Vieux-Sulauze pour Paco Ramos et El Rafi \n15h30 4 novillos de Malaga et A et F Tardieu pour Paco Ramos\, El Rafi\, Maxime Solera et Solal
URL:https://www.sol-y-sombra.fr/event/saint-laurent-daigouze-journee-taurine-des-amis-de-pablo-romero/
ATTACH;FMTTYPE=image/jpeg:https://www.sol-y-sombra.fr/wp-content/uploads/2025/02/481478538_10162609271004267_3238660985115398530_n.jpg
END:VEVENT
END:VCALENDAR