BEGIN:VCALENDAR
VERSION:2.0
PRODID:-//Sol-Y-Sombra - ECPv5.9.0//NONSGML v1.0//EN
CALSCALE:GREGORIAN
METHOD:PUBLISH
X-WR-CALNAME:Sol-Y-Sombra
X-ORIGINAL-URL:https://www.sol-y-sombra.fr
X-WR-CALDESC:évènements pour Sol-Y-Sombra
BEGIN:VTIMEZONE
TZID:Europe/Paris
BEGIN:DAYLIGHT
TZOFFSETFROM:+0100
TZOFFSETTO:+0200
TZNAME:CEST
DTSTART:20250330T010000
END:DAYLIGHT
BEGIN:STANDARD
TZOFFSETFROM:+0200
TZOFFSETTO:+0100
TZNAME:CET
DTSTART:20251026T010000
END:STANDARD
END:VTIMEZONE
BEGIN:VEVENT
DTSTART;TZID=Europe/Paris:20250716T080000
DTEND;TZID=Europe/Paris:20250720T170000
DTSTAMP:20260424T090145
CREATED:20250407T165813Z
LAST-MODIFIED:20250407T165813Z
UID:72491-1752652800-1753030800@www.sol-y-sombra.fr
SUMMARY:MONT DE MARSAN - Fêtes de La Madeleine
DESCRIPTION:Mercredi 16 juillet : 6 toros de Fuente Ymbro pour Morenito de Aranda\, Daniel Luque\, Borja Jiménez \nJeudi 17 juillet (matin) : Erales de Alma Serena et de l’Astarac pour Clovis  et 2 novilleros à désigner \nJeudi 17 juillet : 6 toros de Santiago Domecq pour Miguel Ángel Perera\, Emilio de Justo\, Tristan Barroso \nVendredi 18 juillet : 6 toros de José Escolar Gil pour Fernando Robleño\, Damian Castaño\, Juan de Castilla \nSamedi 19 juillet (matin) : 6 novillos de Cuillé pour Aarón Palacio\, El Mene\, Martín Morilla \nSamedi 19 juillet : 6 toros de El Parralejo pour Juan Ortega\, Andrés Roca Rey\, Clemente \nDimanche 20 juillet : 6 toros de Victorino Martín pour El Cid\, Morenito de Aranda\, Jiménez Fortes
URL:https://www.sol-y-sombra.fr/event/mont-de-marsan-fetes-de-la-madeleine-3/
LOCATION:Mont-de-Marsan\, 3 Place des Arènes\, Mont-de-Marsan\, 40000\, France
ATTACH;FMTTYPE=image/jpeg:https://www.sol-y-sombra.fr/wp-content/uploads/2023/07/0291-Mont-de-Marsan-23-07-2023-Toros-de-Pedraza-de-Yeltes-para-Rafaelillo-Alberto-Lamelas-y-Thomas-Dufau-©-Philippe-Gil-Mir-scaled.jpg
END:VEVENT
END:VCALENDAR