BEGIN:VCALENDAR
VERSION:2.0
PRODID:-//Sol-Y-Sombra - ECPv5.9.0//NONSGML v1.0//EN
CALSCALE:GREGORIAN
METHOD:PUBLISH
X-WR-CALNAME:Sol-Y-Sombra
X-ORIGINAL-URL:https://www.sol-y-sombra.fr
X-WR-CALDESC:évènements pour Sol-Y-Sombra
BEGIN:VTIMEZONE
TZID:Europe/Paris
BEGIN:DAYLIGHT
TZOFFSETFROM:+0100
TZOFFSETTO:+0200
TZNAME:CEST
DTSTART:20250330T010000
END:DAYLIGHT
BEGIN:STANDARD
TZOFFSETFROM:+0200
TZOFFSETTO:+0100
TZNAME:CET
DTSTART:20251026T010000
END:STANDARD
END:VTIMEZONE
BEGIN:VEVENT
DTSTART;VALUE=DATE:20250628
DTEND;VALUE=DATE:20250629
DTSTAMP:20260424T072450
CREATED:20250310T151858Z
LAST-MODIFIED:20250310T151858Z
UID:72292-1751068800-1751155199@www.sol-y-sombra.fr
SUMMARY:MIMIZAN - CORRIDA DE TOROS
DESCRIPTION:A 18H \, TOROS DE PAGES MAILHAN POUR MORENITO DE ARANDA\, JUAN DE CASTILLA ET SAMUEL NAVALON
URL:https://www.sol-y-sombra.fr/event/mimizan-corrida-de-toros-2/
ATTACH;FMTTYPE=image/jpeg:https://www.sol-y-sombra.fr/wp-content/uploads/2025/03/mimizan.jpg
END:VEVENT
END:VCALENDAR