BEGIN:VCALENDAR
VERSION:2.0
PRODID:-//Sol-Y-Sombra - ECPv5.9.0//NONSGML v1.0//EN
CALSCALE:GREGORIAN
METHOD:PUBLISH
X-WR-CALNAME:Sol-Y-Sombra
X-ORIGINAL-URL:https://www.sol-y-sombra.fr
X-WR-CALDESC:évènements pour Sol-Y-Sombra
BEGIN:VTIMEZONE
TZID:Europe/Paris
BEGIN:DAYLIGHT
TZOFFSETFROM:+0100
TZOFFSETTO:+0200
TZNAME:CEST
DTSTART:20250330T010000
END:DAYLIGHT
BEGIN:STANDARD
TZOFFSETFROM:+0200
TZOFFSETTO:+0100
TZNAME:CET
DTSTART:20251026T010000
END:STANDARD
END:VTIMEZONE
BEGIN:VEVENT
DTSTART;TZID=Europe/Paris:20250713T180000
DTEND;TZID=Europe/Paris:20250713T213000
DTSTAMP:20260424T090033
CREATED:20250511T065013Z
LAST-MODIFIED:20250511T065013Z
UID:72954-1752429600-1752442200@www.sol-y-sombra.fr
SUMMARY:MEJANES - 53eme REJON D'OR
DESCRIPTION:A 18H\, TOROS DE GALLON POUR LEONARDO HERNANDEZ\, LEA VICENS ET GUILLERMO HERMOSO DE MENDOZA
URL:https://www.sol-y-sombra.fr/event/mejanes-53eme-rejon-dor/
LOCATION:Mejanes\, Domaine Paul Ricard\, Arles
ATTACH;FMTTYPE=image/jpeg:https://www.sol-y-sombra.fr/wp-content/uploads/2025/05/saintes3.jpg
END:VEVENT
END:VCALENDAR