BEGIN:VCALENDAR
VERSION:2.0
PRODID:-//Sol-Y-Sombra - ECPv5.9.0//NONSGML v1.0//EN
CALSCALE:GREGORIAN
METHOD:PUBLISH
X-WR-CALNAME:Sol-Y-Sombra
X-ORIGINAL-URL:https://www.sol-y-sombra.fr
X-WR-CALDESC:évènements pour Sol-Y-Sombra
BEGIN:VTIMEZONE
TZID:Europe/Paris
BEGIN:DAYLIGHT
TZOFFSETFROM:+0100
TZOFFSETTO:+0200
TZNAME:CEST
DTSTART:20250330T010000
END:DAYLIGHT
BEGIN:STANDARD
TZOFFSETFROM:+0200
TZOFFSETTO:+0100
TZNAME:CET
DTSTART:20251026T010000
END:STANDARD
END:VTIMEZONE
BEGIN:VEVENT
DTSTART;TZID=Europe/Paris:20250720T173000
DTEND;TZID=Europe/Paris:20250720T213000
DTSTAMP:20260424T072553
CREATED:20250719T082042Z
LAST-MODIFIED:20250719T082042Z
UID:74282-1753032600-1753047000@www.sol-y-sombra.fr
SUMMARY:LUNEL - CORRIDA EXTRAORDINARIA
DESCRIPTION:A 17H30 – TOROS ET NOVILLOS DE BOHORQUEZ ET VICTORIANO DEL RIO POUR LEA VICENS\, SEBASTIEN CASTELLA\, ALEJANDRO TALAVANTE et OLGA CASADO.
URL:https://www.sol-y-sombra.fr/event/lunel-corrida-extraordinaria/
LOCATION:Lunel\, Lunel\, 34400\, France
ATTACH;FMTTYPE=image/jpeg:https://www.sol-y-sombra.fr/wp-content/uploads/2025/06/903236a8-67df-4da0-b25e-a44d94e290f7.jpg
END:VEVENT
END:VCALENDAR