BEGIN:VCALENDAR
VERSION:2.0
PRODID:-//Sol-Y-Sombra - ECPv5.9.0//NONSGML v1.0//EN
CALSCALE:GREGORIAN
METHOD:PUBLISH
X-WR-CALNAME:Sol-Y-Sombra
X-ORIGINAL-URL:https://www.sol-y-sombra.fr
X-WR-CALDESC:évènements pour Sol-Y-Sombra
BEGIN:VTIMEZONE
TZID:Europe/Paris
BEGIN:DAYLIGHT
TZOFFSETFROM:+0100
TZOFFSETTO:+0200
TZNAME:CEST
DTSTART:20250330T010000
END:DAYLIGHT
BEGIN:STANDARD
TZOFFSETFROM:+0200
TZOFFSETTO:+0100
TZNAME:CET
DTSTART:20251026T010000
END:STANDARD
END:VTIMEZONE
BEGIN:VEVENT
DTSTART;TZID=Europe/Paris:20250725T213000
DTEND;TZID=Europe/Paris:20250725T233000
DTSTAMP:20260424T073546
CREATED:20250511T064722Z
LAST-MODIFIED:20250511T064722Z
UID:72952-1753479000-1753486200@www.sol-y-sombra.fr
SUMMARY:LES SAINTES MARIES DE LA MER - CORRIDA PORTUGAISE
DESCRIPTION:A 21H30\, TOROS DE TARDIEU FRERES POUR GINES CARTAGENA ET SERGIO PEREZ DE GREGORIO – FORCADOS DE CHAMUSCA
URL:https://www.sol-y-sombra.fr/event/les-saintes-maries-de-la-mer-corrida-portugaise-3/
LOCATION:Les Saintes-Marie-de-la-Mer\, Les Saintes-Marie-de-la-Mer\, 13460\, France
ATTACH;FMTTYPE=image/jpeg:https://www.sol-y-sombra.fr/wp-content/uploads/2025/05/saintes2.jpg
END:VEVENT
END:VCALENDAR