BEGIN:VCALENDAR
VERSION:2.0
PRODID:-//Sol-Y-Sombra - ECPv5.9.0//NONSGML v1.0//EN
CALSCALE:GREGORIAN
METHOD:PUBLISH
X-WR-CALNAME:Sol-Y-Sombra
X-ORIGINAL-URL:https://www.sol-y-sombra.fr
X-WR-CALDESC:évènements pour Sol-Y-Sombra
BEGIN:VTIMEZONE
TZID:Europe/Paris
BEGIN:DAYLIGHT
TZOFFSETFROM:+0100
TZOFFSETTO:+0200
TZNAME:CEST
DTSTART:20250330T010000
END:DAYLIGHT
BEGIN:STANDARD
TZOFFSETFROM:+0200
TZOFFSETTO:+0100
TZNAME:CET
DTSTART:20251026T010000
END:STANDARD
END:VTIMEZONE
BEGIN:VEVENT
DTSTART;TZID=Europe/Paris:20250628T080000
DTEND;TZID=Europe/Paris:20250629T170000
DTSTAMP:20260424T072450
CREATED:20250328T180809Z
LAST-MODIFIED:20250328T180809Z
UID:72366-1751097600-1751216400@www.sol-y-sombra.fr
SUMMARY:BOUJAN/LIBRON - TOROS Y CAMPO ACTE IX
DESCRIPTION:Samedi 28 juin à 18h30 : Novillos de Rehuelga pour Tomas Bastos\, Tomas Gonzalez et Julio Romero \nDimanche 29 juin à 11h : Becerros de Turquay pour Isaac Galvin\, Baptiste Angosto et un troisième \nà 18h30 : Novillos de Turquay pour Juan Molas\, Pedro Luis et Juanillo Bohorquez
URL:https://www.sol-y-sombra.fr/event/boujan-libron-toros-y-campo-acte-ix/
LOCATION:Boujan-sur-Libron\, Boujan-sur-Libron\, 34760\, France
ATTACH;FMTTYPE=image/jpeg:https://www.sol-y-sombra.fr/wp-content/uploads/2025/03/IMG_7863.jpg
END:VEVENT
END:VCALENDAR