BEGIN:VCALENDAR
VERSION:2.0
PRODID:-//Sol-Y-Sombra - ECPv5.9.0//NONSGML v1.0//EN
CALSCALE:GREGORIAN
METHOD:PUBLISH
X-WR-CALNAME:Sol-Y-Sombra
X-ORIGINAL-URL:https://www.sol-y-sombra.fr
X-WR-CALDESC:évènements pour Sol-Y-Sombra
BEGIN:VTIMEZONE
TZID:Europe/Paris
BEGIN:DAYLIGHT
TZOFFSETFROM:+0100
TZOFFSETTO:+0200
TZNAME:CEST
DTSTART:20250330T010000
END:DAYLIGHT
BEGIN:STANDARD
TZOFFSETFROM:+0200
TZOFFSETTO:+0100
TZNAME:CET
DTSTART:20251026T010000
END:STANDARD
END:VTIMEZONE
BEGIN:VEVENT
DTSTART;TZID=Europe/Paris:20250330T153000
DTEND;TZID=Europe/Paris:20250330T170000
DTSTAMP:20260424T105212
CREATED:20250109T184706Z
LAST-MODIFIED:20250109T184706Z
UID:71994-1743348600-1743354000@www.sol-y-sombra.fr
SUMMARY:BELLEGARDE - NOVILLADA SANS PICADORS - IXeme TROPHÉE SEBASTIEN CASTELLA
DESCRIPTION:6 novillos de Roland Durand pour Clovis (ET Béziers) Pablo Sanchez (ET Almeria) et Iñigo Norte (ET Salamanque)
URL:https://www.sol-y-sombra.fr/event/bellegarde-novillada-sans-picadors-ixeme-trophee-sebastien-castella/
LOCATION:Bellegarde\, Rue des arènes\, Bellegarde\, 30127\, France
ATTACH;FMTTYPE=image/jpeg:https://www.sol-y-sombra.fr/wp-content/uploads/2025/01/Outlook-1hxchxzf.jpg
END:VEVENT
END:VCALENDAR