BEGIN:VCALENDAR
VERSION:2.0
PRODID:-//Sol-Y-Sombra - ECPv5.9.0//NONSGML v1.0//EN
CALSCALE:GREGORIAN
METHOD:PUBLISH
X-WR-CALNAME:Sol-Y-Sombra
X-ORIGINAL-URL:https://www.sol-y-sombra.fr
X-WR-CALDESC:évènements pour Sol-Y-Sombra
BEGIN:VTIMEZONE
TZID:Europe/Paris
BEGIN:DAYLIGHT
TZOFFSETFROM:+0100
TZOFFSETTO:+0200
TZNAME:CEST
DTSTART:20250330T010000
END:DAYLIGHT
BEGIN:STANDARD
TZOFFSETFROM:+0200
TZOFFSETTO:+0100
TZNAME:CET
DTSTART:20251026T010000
END:STANDARD
END:VTIMEZONE
BEGIN:VEVENT
DTSTART;TZID=Europe/Paris:20250711T080000
DTEND;TZID=Europe/Paris:20250712T220000
DTSTAMP:20260424T090135
CREATED:20250429T145644Z
LAST-MODIFIED:20250429T145644Z
UID:72840-1752220800-1752357600@www.sol-y-sombra.fr
SUMMARY:BAYONNE - FETES DE BAYONNE
DESCRIPTION:VENDREDI 11 JUILLET 17H30 – TOROS DE PEDRAZA DE YELTES\, DOMINGO HERNANDEZ ET JANDILLA POUR SEBASTIEN CASTELLA SEUL CONTRE SIX \nSAMEDI 12 JUILLET 17H30 – TOROS DE ROMAO TENORIO POUR JOAO ANTONIO BRAZ DE MOURA\, LEA VICENS ET GUILLERMO HERMOSO DE MENDOZA
URL:https://www.sol-y-sombra.fr/event/bayonne-fetes-de-bayonne-3/
ATTACH;FMTTYPE=image/jpeg:https://www.sol-y-sombra.fr/wp-content/uploads/2024/07/Bayonne-12-07-30-1-scaled.jpg
END:VEVENT
END:VCALENDAR