BEGIN:VCALENDAR
VERSION:2.0
PRODID:-//Sol-Y-Sombra - ECPv5.9.0//NONSGML v1.0//EN
CALSCALE:GREGORIAN
METHOD:PUBLISH
X-WR-CALNAME:Sol-Y-Sombra
X-ORIGINAL-URL:https://www.sol-y-sombra.fr
X-WR-CALDESC:évènements pour Sol-Y-Sombra
BEGIN:VTIMEZONE
TZID:Europe/Paris
BEGIN:DAYLIGHT
TZOFFSETFROM:+0100
TZOFFSETTO:+0200
TZNAME:CEST
DTSTART:20250330T010000
END:DAYLIGHT
BEGIN:STANDARD
TZOFFSETFROM:+0200
TZOFFSETTO:+0100
TZNAME:CET
DTSTART:20251026T010000
END:STANDARD
END:VTIMEZONE
BEGIN:VEVENT
DTSTART;TZID=Europe/Paris:20250912T080000
DTEND;TZID=Europe/Paris:20250914T170000
DTSTAMP:20260424T055250
CREATED:20250119T082724Z
LAST-MODIFIED:20250119T082724Z
UID:72027-1757664000-1757869200@www.sol-y-sombra.fr
SUMMARY:ARLES - FERIA DU RIZ 2025
DESCRIPTION:Vendredi 12 septembre – Course Camarguaise – Trophée des As \nSamedi 13 septembre – Corrida Goyesque – Toros de Alvaro Nunez pour Alejandro Talavante\, Daniel Luque et Marco Perez \nDimanche 14 septembre (matin) – Novillada sans picador – Becerros du Laget – Cartel à definir \nDimanche 14 septembre (soir) – Corrida – Toros de Robert Margé pour Juan Leal\, Diego San Roman et Samuel Navalon.
URL:https://www.sol-y-sombra.fr/event/arles-feria-du-riz-2025/
LOCATION:Arenes d’Arles\, Arènes d'Arles\, Arles\, 13200\, France
ATTACH;FMTTYPE=image/jpeg:https://www.sol-y-sombra.fr/wp-content/uploads/2021/01/arles2.jpg
END:VEVENT
END:VCALENDAR