BEGIN:VCALENDAR
VERSION:2.0
PRODID:-//Sol-Y-Sombra - ECPv5.9.0//NONSGML v1.0//EN
CALSCALE:GREGORIAN
METHOD:PUBLISH
X-WR-CALNAME:Sol-Y-Sombra
X-ORIGINAL-URL:https://www.sol-y-sombra.fr
X-WR-CALDESC:évènements pour Sol-Y-Sombra
BEGIN:VTIMEZONE
TZID:Europe/Paris
BEGIN:DAYLIGHT
TZOFFSETFROM:+0100
TZOFFSETTO:+0200
TZNAME:CEST
DTSTART:20250330T010000
END:DAYLIGHT
BEGIN:STANDARD
TZOFFSETFROM:+0200
TZOFFSETTO:+0100
TZNAME:CET
DTSTART:20251026T010000
END:STANDARD
END:VTIMEZONE
BEGIN:VEVENT
DTSTART;TZID=Europe/Paris:20250418T080000
DTEND;TZID=Europe/Paris:20250421T170000
DTSTAMP:20260424T090023
CREATED:20250119T082516Z
LAST-MODIFIED:20250119T082516Z
UID:72024-1744963200-1745254800@www.sol-y-sombra.fr
SUMMARY:ARLES - FERIA DE PÂQUES 2025
DESCRIPTION:Vendredi 18 avril à 16h30 – Course Camarguaise\, Trophée des As. \nSamedi 19 à 11h – Novillada piquée – Novillos de Gallon\, Jalabert\, Cuillé\, San Sebastian\, Raphael Chaubet et Pagès-Mailhan pour Javier Zulueta\, Tomas Bastos et Victor (débuts en novillada piquée) \nà 16h30 – Corrida – Toros de El Parralejo pour Sebastien Castella\, Clemente et Tristan Barroso qui prendra l’alternative. \nDimanche 20 à 11h – Novillada piquée – Novillos de Fernay y Hijas pour Juan Molas\, Aaron Palacio et El Mene \nà 16h30 – Corrida – Toros de Jandilla pour Emilio de Justo\, Roca Rey et Tomas Rufo. \nLundi 21 à 11h – Corrida de Rejon – Toros de Fermin Bohorquez pour Andy Cartagena\, Léa Vicens et Guillermo Hermoso de Mendoza. \nà 16h30 – Corrida – Toros de Virgen Maria pour Miguel Angel Perera\, Paco Ureña et Fernando Adrian.
URL:https://www.sol-y-sombra.fr/event/arles-feria-de-paques-2025/
LOCATION:Arenes d’Arles\, Arènes d'Arles\, Arles\, 13200\, France
ATTACH;FMTTYPE=image/jpeg:https://www.sol-y-sombra.fr/wp-content/uploads/2025/01/WhatsApp-Image-2025-01-17-a-08.52.19_168a800a-scaled.jpg
END:VEVENT
END:VCALENDAR