BEGIN:VCALENDAR
VERSION:2.0
PRODID:-//Sol-Y-Sombra - ECPv5.9.0//NONSGML v1.0//EN
CALSCALE:GREGORIAN
METHOD:PUBLISH
X-WR-CALNAME:Sol-Y-Sombra
X-ORIGINAL-URL:https://www.sol-y-sombra.fr
X-WR-CALDESC:évènements pour Sol-Y-Sombra
BEGIN:VTIMEZONE
TZID:Europe/Paris
BEGIN:DAYLIGHT
TZOFFSETFROM:+0100
TZOFFSETTO:+0200
TZNAME:CEST
DTSTART:20250330T010000
END:DAYLIGHT
BEGIN:STANDARD
TZOFFSETFROM:+0200
TZOFFSETTO:+0100
TZNAME:CET
DTSTART:20251026T010000
END:STANDARD
END:VTIMEZONE
BEGIN:VEVENT
DTSTART;TZID=Europe/Paris:20250528T080000
DTEND;TZID=Europe/Paris:20250601T170000
DTSTAMP:20260424T090704
CREATED:20250209T091954Z
LAST-MODIFIED:20250209T091954Z
UID:72116-1748419200-1748797200@www.sol-y-sombra.fr
SUMMARY:ALES - FERIA DE L'ASCENSION 2025
DESCRIPTION:Samedi 31 mai à 11h – Toros du Curé de Valverde pour Javier Cortes\, Luis Gerpe et Carlos Olsina \nSamedi 31 mai à 17h30 – Toros du Curé de Valverde\, Yonnet\, François André\, Tardieu Frères\, Barcelo et La Golosina pour Sanchez Vara\, Damian Castaño et Miguel Andrades \nDimanche 1er juin à 11 h – Novillada sans picadors – Becerros de Barcelo\, Durand et La Suerte pour Santiago Lopez Ortega\, Bautista Angosto\, Matías\, Mathis et le vainqueur de la Primavera des Aficionados.
URL:https://www.sol-y-sombra.fr/event/ales-feria-de-lascension-2025/
LOCATION:Alès\, Arènes du Temperas\, Alès\, 30100
ATTACH;FMTTYPE=image/jpeg:https://www.sol-y-sombra.fr/wp-content/uploads/2025/02/476241624_963718195859468_6750560836583057722_n.jpg
ORGANIZER;CN="Temperas%20Al%C3%A8s%20Cevennes":MAILTO:temperasalescevennes@gmail.com
END:VEVENT
END:VCALENDAR