BEGIN:VCALENDAR
VERSION:2.0
PRODID:-//Sol-Y-Sombra - ECPv5.9.0//NONSGML v1.0//EN
CALSCALE:GREGORIAN
METHOD:PUBLISH
X-WR-CALNAME:Sol-Y-Sombra
X-ORIGINAL-URL:https://www.sol-y-sombra.fr
X-WR-CALDESC:évènements pour Sol-Y-Sombra
BEGIN:VTIMEZONE
TZID:Europe/Paris
BEGIN:DAYLIGHT
TZOFFSETFROM:+0100
TZOFFSETTO:+0200
TZNAME:CEST
DTSTART:20250330T010000
END:DAYLIGHT
BEGIN:STANDARD
TZOFFSETFROM:+0200
TZOFFSETTO:+0100
TZNAME:CET
DTSTART:20251026T010000
END:STANDARD
END:VTIMEZONE
BEGIN:VEVENT
DTSTART;VALUE=DATE:20250420
DTEND;VALUE=DATE:20250421
DTSTAMP:20260424T090714
CREATED:20250222T113631Z
LAST-MODIFIED:20250222T113631Z
UID:72175-1745107200-1745193599@www.sol-y-sombra.fr
SUMMARY:AIGNAN - Journée Taurine de Pâques
DESCRIPTION:A 11 h\, 4 novillos du Lartet pour Pablo Hernandez et Clovis \nA 17h\, toros de Valdefresno pour Roman\, Christian Parejo et Solal
URL:https://www.sol-y-sombra.fr/event/aignan-journee-taurine-de-paques/
LOCATION:Aignan\, Aignan\, 32290
ATTACH;FMTTYPE=image/jpeg:https://www.sol-y-sombra.fr/wp-content/uploads/2025/02/aignan.jpg
END:VEVENT
END:VCALENDAR