BEGIN:VCALENDAR
VERSION:2.0
PRODID:-//Sol-Y-Sombra - ECPv5.9.0//NONSGML v1.0//EN
CALSCALE:GREGORIAN
METHOD:PUBLISH
X-WR-CALNAME:Sol-Y-Sombra
X-ORIGINAL-URL:https://www.sol-y-sombra.fr
X-WR-CALDESC:évènements pour Sol-Y-Sombra
BEGIN:VTIMEZONE
TZID:Europe/Paris
BEGIN:DAYLIGHT
TZOFFSETFROM:+0100
TZOFFSETTO:+0200
TZNAME:CEST
DTSTART:20260329T010000
END:DAYLIGHT
BEGIN:STANDARD
TZOFFSETFROM:+0200
TZOFFSETTO:+0100
TZNAME:CET
DTSTART:20261025T010000
END:STANDARD
END:VTIMEZONE
BEGIN:VEVENT
DTSTART;VALUE=DATE:20260516
DTEND;VALUE=DATE:20260517
DTSTAMP:20260424T073729
CREATED:20260308T093246Z
LAST-MODIFIED:20260308T093246Z
UID:75412-1778889600-1778975999@www.sol-y-sombra.fr
SUMMARY:ALES - FERIA DE L'ASCENSION 2026
DESCRIPTION:Samedi 16 mai à 11h – Toros de Curé de Valverde et Margé pour Sanchez Vara\, El Rafi et Carlos Olsina \nà 15h30\, becerros de La Suerte et Barcelo pour Matias et Remy Asencio
URL:https://www.sol-y-sombra.fr/event/ales-feria-de-lascension-2026/
LOCATION:Alès\, Arènes du Temperas\, Alès\, 30100
ATTACH;FMTTYPE=image/jpeg:https://www.sol-y-sombra.fr/wp-content/uploads/2026/03/642500458_18219996859310092_8614848840614280981_n.jpg
ORGANIZER;CN="Temperas%20Al%C3%A8s%20Cevennes":MAILTO:temperasalescevennes@gmail.com
END:VEVENT
BEGIN:VEVENT
DTSTART;TZID=Europe/Paris:20260522T080000
DTEND;TZID=Europe/Paris:20260525T170000
DTSTAMP:20260424T073729
CREATED:20260227T145124Z
LAST-MODIFIED:20260227T145124Z
UID:75393-1779436800-1779728400@www.sol-y-sombra.fr
SUMMARY:NÎMES - FERIA DE PENTECÔTE 2026
DESCRIPTION:Vendredi 22 mai à 11 h – Novillada sans picador (Entrée Gratuite) – Erales de Roland Durand pour Lisares (Arles) – Remy Asencio (Nîmes) – Realito (Séville) et le vainqueur du Bolsin de Bellegarde \nà 18h – Toros de Virgen Maria pour Miguel Angel Perera\, Paco Ureña et Aaron Palacio \nSamedi 23 à 11h – Novillada de la Cape d’or – Novillos de Talavante pour Emiliano Osornio\, Victor et Clovis \nà 18 h – Toros de El Freixo pour Morante de la Puebla\, Alejandro Talavante et Marco Perez \nDimanche 24 à 11 h – Toros de Margé pour Marc Serrano\, Adriano\, Tibo Garcia (confirmation)\, El Rafi\, Maxime Solera (confirmation) et Solal \nà 18 h – Toros de Santiago Domecq pour Sebastien Castella\, Daniel Luque et Emilio de Justo \nLundi 25 à 11h – Toros de Bohorquez pour Léa Vicens\, Guillermo Hermoso de Mendoza et Duarte Fernandes (confirmation) \nà 18 h – Toros de Pedraza de Yeltes pour Borja Jimenez et Clemente\, mano a mano
URL:https://www.sol-y-sombra.fr/event/nimes-feria-de-pentecote-2026/
ATTACH;FMTTYPE=image/jpeg:https://www.sol-y-sombra.fr/wp-content/uploads/2026/02/nimes-20-177-scaled.jpg
END:VEVENT
END:VCALENDAR