BEGIN:VCALENDAR
VERSION:2.0
PRODID:-//Sol-Y-Sombra - ECPv5.9.0//NONSGML v1.0//EN
CALSCALE:GREGORIAN
METHOD:PUBLISH
X-WR-CALNAME:Sol-Y-Sombra
X-ORIGINAL-URL:https://www.sol-y-sombra.fr
X-WR-CALDESC:évènements pour Sol-Y-Sombra
BEGIN:VTIMEZONE
TZID:Europe/Paris
BEGIN:DAYLIGHT
TZOFFSETFROM:+0100
TZOFFSETTO:+0200
TZNAME:CEST
DTSTART:20260329T010000
END:DAYLIGHT
BEGIN:STANDARD
TZOFFSETFROM:+0200
TZOFFSETTO:+0100
TZNAME:CET
DTSTART:20261025T010000
END:STANDARD
END:VTIMEZONE
BEGIN:VEVENT
DTSTART;TZID=Europe/Paris:20260711T080000
DTEND;TZID=Europe/Paris:20260712T170000
DTSTAMP:20260424T122257
CREATED:20260308T093035Z
LAST-MODIFIED:20260308T093035Z
UID:75409-1783756800-1783875600@www.sol-y-sombra.fr
SUMMARY:CERET DE TOROS 2026
DESCRIPTION:Samedi 11 juillet à 11h – Novillos de Barcial et Partido de Resina pour Mario Villau en solitaire \nà 18h – Toros de Dolores Aguirre pour Sanchez Vara\, Damian Castaño et Luis Gerpe \nDimanche 12 juillet à 11h – Novillos de Tulio Vazquez pour Valentin Hoyos et Jesus de la Cazalda \nà 18h – Toros de José Escolar Gil pour Antonio Ferrera\, Juan de Castilla et Maxime Solera.
URL:https://www.sol-y-sombra.fr/event/ceret-de-toros-2026/
LOCATION:Ceret\, Ceret\, 66400\, France
ATTACH;FMTTYPE=image/jpeg:https://www.sol-y-sombra.fr/wp-content/uploads/2026/03/ceret26adac.jpg
ORGANIZER;CN="adac":MAILTO:adac@ceret-de-toros.com
END:VEVENT
END:VCALENDAR